BEGIN:VCALENDAR
VERSION:2.0
PRODID:-//El Correo de Las Brujas - ECPv6.7.0//NONSGML v1.0//EN
CALSCALE:GREGORIAN
METHOD:PUBLISH
X-WR-CALNAME:El Correo de Las Brujas
X-ORIGINAL-URL:https://elcorreodelasbrujas.cl
X-WR-CALDESC:Eventos para El Correo de Las Brujas
REFRESH-INTERVAL;VALUE=DURATION:PT1H
X-Robots-Tag:noindex
X-PUBLISHED-TTL:PT1H
BEGIN:VTIMEZONE
TZID:America/Sao_Paulo
BEGIN:STANDARD
TZOFFSETFROM:-0300
TZOFFSETTO:-0300
TZNAME:-03
DTSTART:20250101T000000
END:STANDARD
END:VTIMEZONE
BEGIN:VEVENT
DTSTART;TZID=America/Sao_Paulo:20250307T100000
DTEND;TZID=America/Sao_Paulo:20250307T200000
DTSTAMP:20260420T233656
CREATED:20250307T202546Z
LAST-MODIFIED:20250307T203402Z
UID:5227-1741341600-1741377600@elcorreodelasbrujas.cl
SUMMARY:Expo Mujer
DESCRIPTION:Expo Mujer\n\n\n\n\n\n\n\nPlaza de Armas de TalaganteAv Lib\, Bernardo O’Higgins 1130\,TalaganteSantiago\,
URL:https://elcorreodelasbrujas.cl/evento/expo-mujer/
ATTACH;FMTTYPE=image/png:https://elcorreodelasbrujas.cl/wp-content/uploads/2025/03/imagen-3.png
END:VEVENT
BEGIN:VEVENT
DTSTART;TZID=America/Sao_Paulo:20250307T173000
DTEND;TZID=America/Sao_Paulo:20250307T173000
DTSTAMP:20260420T233656
CREATED:20250307T144015Z
LAST-MODIFIED:20250307T144018Z
UID:5208-1741368600-1741368600@elcorreodelasbrujas.cl
SUMMARY:Día de La Mujer
DESCRIPTION:Día de La Mujer
URL:https://elcorreodelasbrujas.cl/evento/dia-de-la-mujer/
LOCATION:Plaza Peñaflor\, plaza peñaflor
ATTACH;FMTTYPE=image/jpeg:https://elcorreodelasbrujas.cl/wp-content/uploads/2025/03/dia-mujer.jpg
END:VEVENT
BEGIN:VEVENT
DTSTART;TZID=America/Sao_Paulo:20250307T180000
DTEND;TZID=America/Sao_Paulo:20250307T180000
DTSTAMP:20260420T233656
CREATED:20250307T221012Z
LAST-MODIFIED:20250307T221015Z
UID:5241-1741370400-1741370400@elcorreodelasbrujas.cl
SUMMARY:Finde Especial Girl Power
DESCRIPTION:Finde Especial Girl Power
URL:https://elcorreodelasbrujas.cl/evento/finde-especial-girl-power/
LOCATION:Pasaporte\, Avenida Balmaceda #1940\, Malloco - Peñaflor
ATTACH;FMTTYPE=image/png:https://elcorreodelasbrujas.cl/wp-content/uploads/2025/03/imagen-4.png
END:VEVENT
BEGIN:VEVENT
DTSTART;TZID=America/Sao_Paulo:20250307T190000
DTEND;TZID=America/Sao_Paulo:20250307T220000
DTSTAMP:20260420T233656
CREATED:20250307T213728Z
LAST-MODIFIED:20250307T213732Z
UID:5238-1741374000-1741384800@elcorreodelasbrujas.cl
SUMMARY:Fiesta Flúor
DESCRIPTION:Fiesta Flúor\n\n\n\n\n\n\n\nPiscina Municipal Villa RialtoIrarrázabal 085\,Peñaflor.
URL:https://elcorreodelasbrujas.cl/evento/fiesta-fluor/
ATTACH;FMTTYPE=image/png:https://elcorreodelasbrujas.cl/wp-content/uploads/2025/03/imagen-5.png
END:VEVENT
BEGIN:VEVENT
DTSTART;TZID=America/Sao_Paulo:20250307T210000
DTEND;TZID=America/Sao_Paulo:20250307T210000
DTSTAMP:20260420T233656
CREATED:20250307T162322Z
LAST-MODIFIED:20250307T162326Z
UID:5224-1741381200-1741381200@elcorreodelasbrujas.cl
SUMMARY:Tributo Karol G
DESCRIPTION:Tributo Karol G
URL:https://elcorreodelasbrujas.cl/evento/tributo-karol-g/
LOCATION:Kingofbar\, Miraflores 983\, Peñaflor
ATTACH;FMTTYPE=image/png:https://elcorreodelasbrujas.cl/wp-content/uploads/2025/03/imagen-2.png
END:VEVENT
BEGIN:VEVENT
DTSTART;TZID=America/Sao_Paulo:20250307T210000
DTEND;TZID=America/Sao_Paulo:20250307T210000
DTSTAMP:20260420T233656
CREATED:20250308T003240Z
LAST-MODIFIED:20250308T003353Z
UID:5247-1741381200-1741381200@elcorreodelasbrujas.cl
SUMMARY:Noche de Cumbia
DESCRIPTION:Noche de Cumbia
URL:https://elcorreodelasbrujas.cl/evento/noche-de-cumbia/
LOCATION:Kinta Sala\, Av 21 de Mayo 1405\, Talagante
ATTACH;FMTTYPE=image/png:https://elcorreodelasbrujas.cl/wp-content/uploads/2025/03/imagen-7.png
END:VEVENT
BEGIN:VEVENT
DTSTART;TZID=America/Sao_Paulo:20250307T213000
DTEND;TZID=America/Sao_Paulo:20250307T233000
DTSTAMP:20260420T233656
CREATED:20250307T142437Z
LAST-MODIFIED:20250307T142441Z
UID:5202-1741383000-1741390200@elcorreodelasbrujas.cl
SUMMARY:Soda Stereo en la ciudad de la furia
DESCRIPTION:Soda Stereo en la ciudad de la furia
URL:https://elcorreodelasbrujas.cl/evento/soda-stereo-en-la-ciudad-de-la-furia/
LOCATION:Bar Inglés – Casa Tudor\, El Oliveto\, talagante\, Metropolitana\, Talagante\, Chile
ATTACH;FMTTYPE=image/png:https://elcorreodelasbrujas.cl/wp-content/uploads/2025/03/imagen.png
END:VEVENT
BEGIN:VEVENT
DTSTART;TZID=America/Sao_Paulo:20250307T213000
DTEND;TZID=America/Sao_Paulo:20250307T233000
DTSTAMP:20260420T233656
CREATED:20250307T152121Z
LAST-MODIFIED:20250307T152124Z
UID:5219-1741383000-1741390200@elcorreodelasbrujas.cl
SUMMARY:A Tí Mujer
DESCRIPTION:A Tí Mujer
URL:https://elcorreodelasbrujas.cl/evento/a-ti-mujer/
LOCATION:Barrio Ombú\, Larraín 3157\, Peñaflor
ATTACH;FMTTYPE=image/png:https://elcorreodelasbrujas.cl/wp-content/uploads/2025/03/imagen-1-e1741360828230.png
END:VEVENT
BEGIN:VEVENT
DTSTART;TZID=America/Sao_Paulo:20250308T100000
DTEND;TZID=America/Sao_Paulo:20250308T200000
DTSTAMP:20260420T233656
CREATED:20250307T204637Z
LAST-MODIFIED:20250307T204640Z
UID:5233-1741428000-1741464000@elcorreodelasbrujas.cl
SUMMARY:Expo Mujer
DESCRIPTION:Expo Mujer\n\n\n\n\n\n\n\nPlaza de Armas de TalaganteAv Lib\, Bernardo O’Higgins 1130\,TalaganteSantiago\,
URL:https://elcorreodelasbrujas.cl/evento/expo-mujer-2/
ATTACH;FMTTYPE=image/png:https://elcorreodelasbrujas.cl/wp-content/uploads/2025/03/imagen-3.png
END:VEVENT
BEGIN:VEVENT
DTSTART;TZID=America/Sao_Paulo:20250308T100000
DTEND;TZID=America/Sao_Paulo:20250308T200000
DTSTAMP:20260420T233656
CREATED:20250307T222054Z
LAST-MODIFIED:20250307T222059Z
UID:5244-1741428000-1741464000@elcorreodelasbrujas.cl
SUMMARY:Aniversario
DESCRIPTION:Aniversario
URL:https://elcorreodelasbrujas.cl/evento/aniversario/
LOCATION:Ottofritz Restobar\, Av. Caupolicán 3461 \, Peñaflor
ATTACH;FMTTYPE=image/png:https://elcorreodelasbrujas.cl/wp-content/uploads/2025/03/imagen-6.png
END:VEVENT
BEGIN:VEVENT
DTSTART;TZID=America/Sao_Paulo:20250308T180000
DTEND;TZID=America/Sao_Paulo:20250308T230000
DTSTAMP:20260420T233656
CREATED:20250308T005233Z
LAST-MODIFIED:20250308T005236Z
UID:5251-1741456800-1741474800@elcorreodelasbrujas.cl
SUMMARY:Paseo Voces de Mujer
DESCRIPTION:Paseo Voces de Mujer\n\n\n\n\n\n\n\nAv. Santelices\,entre esquinas El Rosario y 21 de Mayo.
URL:https://elcorreodelasbrujas.cl/evento/paseo-voces-de-mujer/
ATTACH;FMTTYPE=image/png:https://elcorreodelasbrujas.cl/wp-content/uploads/2025/03/imagen-9.png
END:VEVENT
BEGIN:VEVENT
DTSTART;TZID=America/Sao_Paulo:20250314T200000
DTEND;TZID=America/Sao_Paulo:20250314T200000
DTSTAMP:20260420T233656
CREATED:20250314T214409Z
LAST-MODIFIED:20250314T214549Z
UID:5265-1741982400-1741982400@elcorreodelasbrujas.cl
SUMMARY:San Patricio
DESCRIPTION:San Patricio
URL:https://elcorreodelasbrujas.cl/evento/san-patricio/
LOCATION:Club Demonio\, Peñaflor\, Av Larrain 3157
ATTACH;FMTTYPE=image/png:https://elcorreodelasbrujas.cl/wp-content/uploads/2025/03/imagen-10.png
END:VEVENT
BEGIN:VEVENT
DTSTART;TZID=America/Sao_Paulo:20250314T210000
DTEND;TZID=America/Sao_Paulo:20250314T210000
DTSTAMP:20260420T233656
CREATED:20250314T234733Z
LAST-MODIFIED:20250314T234736Z
UID:5298-1741986000-1741986000@elcorreodelasbrujas.cl
SUMMARY:Tributo Karol G
DESCRIPTION:Tributo Karol G
URL:https://elcorreodelasbrujas.cl/evento/tributo-karol-g-2/
LOCATION:Kingofbar\, Miraflores 983\, Peñaflor
ATTACH;FMTTYPE=image/png:https://elcorreodelasbrujas.cl/wp-content/uploads/2025/03/imagen-12.png
END:VEVENT
BEGIN:VEVENT
DTSTART;TZID=America/Sao_Paulo:20250314T210000
DTEND;TZID=America/Sao_Paulo:20250314T210000
DTSTAMP:20260420T233656
CREATED:20250315T001111Z
LAST-MODIFIED:20250315T001114Z
UID:5310-1741986000-1741986000@elcorreodelasbrujas.cl
SUMMARY:Tributo Américo
DESCRIPTION:Tributo Américo
URL:https://elcorreodelasbrujas.cl/evento/tributo-americo/
LOCATION:Kinta Sala\, Av 21 de Mayo 1405\, Talagante
ATTACH;FMTTYPE=image/png:https://elcorreodelasbrujas.cl/wp-content/uploads/2025/03/imagen-15.png
END:VEVENT
BEGIN:VEVENT
DTSTART;TZID=America/Sao_Paulo:20250314T210000
DTEND;TZID=America/Sao_Paulo:20250314T210000
DTSTAMP:20260420T233656
CREATED:20250315T001743Z
LAST-MODIFIED:20250315T001746Z
UID:5313-1741986000-1741986000@elcorreodelasbrujas.cl
SUMMARY:Tributo Ricardo Arjona
DESCRIPTION:Tributo Ricardo Arjona
URL:https://elcorreodelasbrujas.cl/evento/tributo-ricardo-arjona/
LOCATION:Ottofritz Restobar\, Av. Caupolicán 3461 \, Peñaflor
ATTACH;FMTTYPE=image/png:https://elcorreodelasbrujas.cl/wp-content/uploads/2025/03/imagen-18.png
END:VEVENT
BEGIN:VEVENT
DTSTART;TZID=America/Sao_Paulo:20250314T210000
DTEND;TZID=America/Sao_Paulo:20250314T210000
DTSTAMP:20260420T233656
CREATED:20250315T002540Z
LAST-MODIFIED:20250315T002820Z
UID:5316-1741986000-1741986000@elcorreodelasbrujas.cl
SUMMARY:Tributo Roxette
DESCRIPTION:Tributo Roxette\n\n\n\n\n\n\n\nCarnes Don ChaloPaineRegión Metropolitana
URL:https://elcorreodelasbrujas.cl/evento/tributo-roxette/
ATTACH;FMTTYPE=image/png:https://elcorreodelasbrujas.cl/wp-content/uploads/2025/03/imagen-19.png
END:VEVENT
BEGIN:VEVENT
DTSTART;TZID=America/Sao_Paulo:20250315T100000
DTEND;TZID=America/Sao_Paulo:20250315T100000
DTSTAMP:20260420T233656
CREATED:20250314T233717Z
LAST-MODIFIED:20250314T234318Z
UID:5286-1742032800-1742032800@elcorreodelasbrujas.cl
SUMMARY:Magic Fest
DESCRIPTION:Magic Fest
URL:https://elcorreodelasbrujas.cl/evento/magic-fest/
LOCATION:Plaza de Armas de Talagante\, Av Lib\, Bernardo O'Higgins 1130\, Talagante\, Santiago
ATTACH;FMTTYPE=image/jpeg:https://elcorreodelasbrujas.cl/wp-content/uploads/2025/03/magic-fest.jpg
END:VEVENT
BEGIN:VEVENT
DTSTART;TZID=America/Sao_Paulo:20250315T173000
DTEND;TZID=America/Sao_Paulo:20250315T173000
DTSTAMP:20260420T233656
CREATED:20250315T003706Z
LAST-MODIFIED:20250315T003708Z
UID:5324-1742059800-1742059800@elcorreodelasbrujas.cl
SUMMARY:Festival Voces de Mujer
DESCRIPTION:Festival Voces de Mujer
URL:https://elcorreodelasbrujas.cl/evento/festival-voces-de-mujer/
LOCATION:Casa de la Cultura de Talagante\, Av. Bernardo O'Higgins 3201
ATTACH;FMTTYPE=image/png:https://elcorreodelasbrujas.cl/wp-content/uploads/2025/03/imagen-20.png
END:VEVENT
BEGIN:VEVENT
DTSTART;TZID=America/Sao_Paulo:20250315T200000
DTEND;TZID=America/Sao_Paulo:20250315T200000
DTSTAMP:20260420T233656
CREATED:20250314T214911Z
LAST-MODIFIED:20250314T214914Z
UID:5268-1742068800-1742068800@elcorreodelasbrujas.cl
SUMMARY:San Patricio
DESCRIPTION:San Patricio
URL:https://elcorreodelasbrujas.cl/evento/san-patricio-2/
LOCATION:Club Demonio\, Peñaflor\, Av Larrain 3157
ATTACH;FMTTYPE=image/png:https://elcorreodelasbrujas.cl/wp-content/uploads/2025/03/imagen-10.png
END:VEVENT
BEGIN:VEVENT
DTSTART;TZID=America/Sao_Paulo:20250315T210000
DTEND;TZID=America/Sao_Paulo:20250315T210000
DTSTAMP:20260420T233656
CREATED:20250315T000242Z
LAST-MODIFIED:20250315T000246Z
UID:5306-1742072400-1742072400@elcorreodelasbrujas.cl
SUMMARY:La Gran Magia Tropical
DESCRIPTION:La Gran Magia Tropical
URL:https://elcorreodelasbrujas.cl/evento/la-gran-magia-tropical-2/
LOCATION:Kingofbar\, Miraflores 983\, Peñaflor
ATTACH;FMTTYPE=image/png:https://elcorreodelasbrujas.cl/wp-content/uploads/2025/03/imagen-21.png
END:VEVENT
BEGIN:VEVENT
DTSTART;TZID=America/Sao_Paulo:20250321T110000
DTEND;TZID=America/Sao_Paulo:20250321T173000
DTSTAMP:20260420T233656
CREATED:20250329T155246Z
LAST-MODIFIED:20250329T155408Z
UID:5603-1742554800-1742578200@elcorreodelasbrujas.cl
SUMMARY:Exposición del cosmos a la Tierra
DESCRIPTION:Exposición del cosmos a la Tierra\n\n\n\n\n\n\n\n\n\n\n\nSALA MAP
URL:https://elcorreodelasbrujas.cl/evento/exposicion-del-cosmos-a-la-tierra/
LOCATION:Parque El Trapiche\, Manuel Rodríguez\, Peñaflor\, Chile\, santiago\, Chile
ATTACH;FMTTYPE=image/png:https://elcorreodelasbrujas.cl/wp-content/uploads/2025/03/image-19.png
END:VEVENT
BEGIN:VEVENT
DTSTART;TZID=America/Sao_Paulo:20250321T210000
DTEND;TZID=America/Sao_Paulo:20250321T210000
DTSTAMP:20260420T233656
CREATED:20250321T230649Z
LAST-MODIFIED:20250321T230654Z
UID:5453-1742590800-1742590800@elcorreodelasbrujas.cl
SUMMARY:Rock Latino
DESCRIPTION:Rock Latino
URL:https://elcorreodelasbrujas.cl/evento/rock-latino/
LOCATION:Kinta Sala\, Av 21 de Mayo 1405\, Talagante
ATTACH;FMTTYPE=image/jpeg:https://elcorreodelasbrujas.cl/wp-content/uploads/2025/03/rock-latino.jpg
END:VEVENT
BEGIN:VEVENT
DTSTART;TZID=America/Sao_Paulo:20250321T210000
DTEND;TZID=America/Sao_Paulo:20250321T233000
DTSTAMP:20260420T233656
CREATED:20250322T000118Z
LAST-MODIFIED:20250322T000324Z
UID:5477-1742590800-1742599800@elcorreodelasbrujas.cl
SUMMARY:Tributo Garin León
DESCRIPTION:Tributo Garin León
URL:https://elcorreodelasbrujas.cl/evento/tributo-garin-leon/
LOCATION:Kingofbar\, Miraflores 983\, Peñaflor
ATTACH;FMTTYPE=image/jpeg:https://elcorreodelasbrujas.cl/wp-content/uploads/2025/03/garin-leon.jpg
END:VEVENT
BEGIN:VEVENT
DTSTART;TZID=America/Sao_Paulo:20250322T170000
DTEND;TZID=America/Sao_Paulo:20250322T170000
DTSTAMP:20260420T233656
CREATED:20250321T233544Z
LAST-MODIFIED:20250321T233916Z
UID:5465-1742662800-1742662800@elcorreodelasbrujas.cl
SUMMARY:IV Feria Cromosómica
DESCRIPTION:IV Feria Cromosómica
URL:https://elcorreodelasbrujas.cl/evento/iv-feria-cromosomica/
LOCATION:Plaza de Armas de Talagante\, Av Lib\, Bernardo O'Higgins 1130\, Talagante\, Santiago
ATTACH;FMTTYPE=image/jpeg:https://elcorreodelasbrujas.cl/wp-content/uploads/2025/03/cromosomica.jpg
END:VEVENT
BEGIN:VEVENT
DTSTART;TZID=America/Sao_Paulo:20250322T210000
DTEND;TZID=America/Sao_Paulo:20250322T210000
DTSTAMP:20260420T233656
CREATED:20250321T231433Z
LAST-MODIFIED:20250321T231439Z
UID:5457-1742677200-1742677200@elcorreodelasbrujas.cl
SUMMARY:Entre Salsa y Funk
DESCRIPTION:Entre Salsa y Funk
URL:https://elcorreodelasbrujas.cl/evento/entre-salsa-y-funk/
LOCATION:Kinta Sala\, Av 21 de Mayo 1405\, Talagante
ATTACH;FMTTYPE=image/jpeg:https://elcorreodelasbrujas.cl/wp-content/uploads/2025/03/entre-salsa-funk.jpg
END:VEVENT
BEGIN:VEVENT
DTSTART;TZID=America/Sao_Paulo:20250328T183000
DTEND;TZID=America/Sao_Paulo:20250328T233000
DTSTAMP:20260420T233656
CREATED:20250329T145626Z
LAST-MODIFIED:20250329T145633Z
UID:5575-1743186600-1743204600@elcorreodelasbrujas.cl
SUMMARY:Tributo en vivo a GILDA
DESCRIPTION:Tributo en vivo a GILDA
URL:https://elcorreodelasbrujas.cl/evento/tributo-en-vivo-a-gilda/
LOCATION:Kingofbar\, Miraflores 983\, Peñaflor
ATTACH;FMTTYPE=image/png:https://elcorreodelasbrujas.cl/wp-content/uploads/2025/03/image-6.png
END:VEVENT
BEGIN:VEVENT
DTSTART;TZID=America/Sao_Paulo:20250328T200000
DTEND;TZID=America/Sao_Paulo:20250328T200000
DTSTAMP:20260420T233656
CREATED:20250314T212803Z
LAST-MODIFIED:20250314T213325Z
UID:5256-1743192000-1743192000@elcorreodelasbrujas.cl
SUMMARY:Fiesta 80's 90's
DESCRIPTION:Fiesta 80’s 90’s\n\n\n\n\n\n\n\n\n\nCentro de Eventos Casa AtenasTalaganteRegión MetropolitanaChile
URL:https://elcorreodelasbrujas.cl/evento/fiesta-80s-90s/
ATTACH;FMTTYPE=image/png:https://elcorreodelasbrujas.cl/wp-content/uploads/2025/03/imagen-8.png
END:VEVENT
BEGIN:VEVENT
DTSTART;TZID=America/Sao_Paulo:20250328T200000
DTEND;TZID=America/Sao_Paulo:20250328T200000
DTSTAMP:20260420T233656
CREATED:20250315T005033Z
LAST-MODIFIED:20250315T005037Z
UID:5327-1743192000-1743192000@elcorreodelasbrujas.cl
SUMMARY:El Regreso de La Elvira
DESCRIPTION:El Regreso de La Elvira
URL:https://elcorreodelasbrujas.cl/evento/el-regreso-de-la-elvira/
LOCATION:Bar Ingles – Casa Tudor\, El Oliveto 4036\, Talagante\, Talagante\, Talagante
ATTACH;FMTTYPE=image/png:https://elcorreodelasbrujas.cl/wp-content/uploads/2025/03/imagen-16.png
END:VEVENT
BEGIN:VEVENT
DTSTART;TZID=America/Sao_Paulo:20250328T210000
DTEND;TZID=America/Sao_Paulo:20250328T210000
DTSTAMP:20260420T233656
CREATED:20250321T232221Z
LAST-MODIFIED:20250321T232227Z
UID:5461-1743195600-1743195600@elcorreodelasbrujas.cl
SUMMARY:Trago Amargo
DESCRIPTION:Trago Amargo
URL:https://elcorreodelasbrujas.cl/evento/trago-amargo-2/
LOCATION:Kinta Sala\, Av 21 de Mayo 1405\, Talagante
ATTACH;FMTTYPE=image/jpeg:https://elcorreodelasbrujas.cl/wp-content/uploads/2025/03/trago-amargo.jpg
END:VEVENT
BEGIN:VEVENT
DTSTART;TZID=America/Sao_Paulo:20250329T120000
DTEND;TZID=America/Sao_Paulo:20250329T120000
DTSTAMP:20260420T233656
CREATED:20250314T223314Z
LAST-MODIFIED:20250314T223317Z
UID:5280-1743249600-1743249600@elcorreodelasbrujas.cl
SUMMARY:Entre Parrillas y Copas
DESCRIPTION:Entre Parrillas y Copas\n\n\n\n\n\n\n\nCentro Comunitario San LuisAv. Balmaceda # 13380TalaganteRegión MetropolitanaChile
URL:https://elcorreodelasbrujas.cl/evento/entre-parrillas-y-copas/
ATTACH;FMTTYPE=image/jpeg:https://elcorreodelasbrujas.cl/wp-content/uploads/2025/03/parrillas.jpg
END:VEVENT
END:VCALENDAR