BEGIN:VCALENDAR
VERSION:2.0
PRODID:-//El Correo de Las Brujas - ECPv6.7.0//NONSGML v1.0//EN
CALSCALE:GREGORIAN
METHOD:PUBLISH
X-WR-CALNAME:El Correo de Las Brujas
X-ORIGINAL-URL:https://elcorreodelasbrujas.cl
X-WR-CALDESC:Eventos para El Correo de Las Brujas
REFRESH-INTERVAL;VALUE=DURATION:PT1H
X-Robots-Tag:noindex
X-PUBLISHED-TTL:PT1H
BEGIN:VTIMEZONE
TZID:America/Sao_Paulo
BEGIN:STANDARD
TZOFFSETFROM:-0300
TZOFFSETTO:-0300
TZNAME:-03
DTSTART:20250101T000000
END:STANDARD
END:VTIMEZONE
BEGIN:VEVENT
DTSTART;TZID=America/Sao_Paulo:20251009T003000
DTEND;TZID=America/Sao_Paulo:20251009T010000
DTSTAMP:20260423T122438
CREATED:20251008T205739Z
LAST-MODIFIED:20251008T205744Z
UID:6604-1759969800-1759971600@elcorreodelasbrujas.cl
SUMMARY:Academia de Mujeres Empresarias
DESCRIPTION:Academia de Mujeres Empresarias
URL:https://elcorreodelasbrujas.cl/evento/academia-de-mujeres-empresarias/
LOCATION:Casa de la Cultura de Talagante\, Av. Bernardo O'Higgins 3201
ATTACH;FMTTYPE=image/png:https://elcorreodelasbrujas.cl/wp-content/uploads/2025/10/image.png
END:VEVENT
BEGIN:VEVENT
DTSTART;TZID=America/Sao_Paulo:20251009T190000
DTEND;TZID=America/Sao_Paulo:20251009T210000
DTSTAMP:20260423T122438
CREATED:20251008T213856Z
LAST-MODIFIED:20251008T214057Z
UID:6628-1760036400-1760043600@elcorreodelasbrujas.cl
SUMMARY:Grandes éxitos del pop
DESCRIPTION:
URL:https://elcorreodelasbrujas.cl/evento/grandes-exitos-del-pop/
LOCATION:Casa de la Cultura de Talagante\, Av. Bernardo O'Higgins 3201
ATTACH;FMTTYPE=image/png:https://elcorreodelasbrujas.cl/wp-content/uploads/2025/10/image-6.png
END:VEVENT
BEGIN:VEVENT
DTSTART;TZID=America/Sao_Paulo:20251010T140000
DTEND;TZID=America/Sao_Paulo:20251010T170000
DTSTAMP:20260423T122438
CREATED:20251008T220949Z
LAST-MODIFIED:20251008T222911Z
UID:6641-1760104800-1760115600@elcorreodelasbrujas.cl
SUMMARY:Picnic por la Salud Mental y la Humanización 
DESCRIPTION:Picnic por la Salud Mental y la Humanización 
URL:https://elcorreodelasbrujas.cl/evento/picnic-por-la-salud-mental-y-la-humanizacion/
LOCATION:Estadio Municipal Isla de Maipo\, Av. Jaime Guzmán 840
ATTACH;FMTTYPE=image/png:https://elcorreodelasbrujas.cl/wp-content/uploads/2025/10/image-9.png
END:VEVENT
BEGIN:VEVENT
DTSTART;TZID=America/Sao_Paulo:20251010T193000
DTEND;TZID=America/Sao_Paulo:20251010T213000
DTSTAMP:20260423T122438
CREATED:20251008T222605Z
LAST-MODIFIED:20251008T222751Z
UID:6656-1760124600-1760131800@elcorreodelasbrujas.cl
SUMMARY:Concierto Grandes de Música
DESCRIPTION:Concierto Grandes de Música
URL:https://elcorreodelasbrujas.cl/evento/concierto-grandes-de-musica/
LOCATION:Espacio Peñaflor\, Irarrázabal 085\, Peñaflor\, Chile
ATTACH;FMTTYPE=image/png:https://elcorreodelasbrujas.cl/wp-content/uploads/2025/10/image-11.png
END:VEVENT
BEGIN:VEVENT
DTSTART;TZID=America/Sao_Paulo:20251010T210000
DTEND;TZID=America/Sao_Paulo:20251010T233000
DTSTAMP:20260423T122438
CREATED:20251008T211059Z
LAST-MODIFIED:20251008T211251Z
UID:6614-1760130000-1760139000@elcorreodelasbrujas.cl
SUMMARY:SELENA QUINTANILLA Tributo con Banda en Vivo
DESCRIPTION:SELENA QUINTANILLA Tributo con Banda en Vivo
URL:https://elcorreodelasbrujas.cl/evento/selena-quintanilla-tributo-con-banda-en-vivo/
LOCATION:Kinta Sala\, Av 21 de Mayo 1405\, Talagante
ATTACH;FMTTYPE=image/png:https://elcorreodelasbrujas.cl/wp-content/uploads/2025/10/image-2.png
END:VEVENT
BEGIN:VEVENT
DTSTART;TZID=America/Sao_Paulo:20251011T130000
DTEND;TZID=America/Sao_Paulo:20251011T200000
DTSTAMP:20260423T122438
CREATED:20251008T210319Z
LAST-MODIFIED:20251008T210324Z
UID:6609-1760187600-1760212800@elcorreodelasbrujas.cl
SUMMARY:FUSIÓN CULTURAL RUYUEN 2025
DESCRIPTION:FUSIÓN CULTURAL RUYUEN 2025
URL:https://elcorreodelasbrujas.cl/evento/fusion-cultural-ruyuen-2025/
LOCATION:Casa de la Cultura de Talagante\, Av. Bernardo O'Higgins 3201
ATTACH;FMTTYPE=image/png:https://elcorreodelasbrujas.cl/wp-content/uploads/2025/10/image-1.png
END:VEVENT
BEGIN:VEVENT
DTSTART;TZID=America/Sao_Paulo:20251011T150000
DTEND;TZID=America/Sao_Paulo:20251011T200000
DTSTAMP:20260423T122438
CREATED:20251008T213408Z
LAST-MODIFIED:20251008T213447Z
UID:6625-1760194800-1760212800@elcorreodelasbrujas.cl
SUMMARY:XI Festival de las artes circenses Sueños a Color
DESCRIPTION:XI Festival de las artes circenses Sueños a Color
URL:https://elcorreodelasbrujas.cl/evento/xi-festival-de-las-artes-circenses-suenos-a-color/
LOCATION:Casa de la Cultura de Talagante\, Av. Bernardo O'Higgins 3201
ATTACH;FMTTYPE=image/png:https://elcorreodelasbrujas.cl/wp-content/uploads/2025/10/image-5.png
END:VEVENT
BEGIN:VEVENT
DTSTART;TZID=America/Sao_Paulo:20251011T210000
DTEND;TZID=America/Sao_Paulo:20251011T210000
DTSTAMP:20260423T122438
CREATED:20251010T215248Z
LAST-MODIFIED:20251010T215336Z
UID:6670-1760216400-1760216400@elcorreodelasbrujas.cl
SUMMARY:Jimmy Águila y Héctor Arellano stand up comedy
DESCRIPTION:Jimmy Águila y Héctor Arellano stand up comedy
URL:https://elcorreodelasbrujas.cl/evento/jimmy-aguila-y-hector-arellano-stand-up-comedy/
LOCATION:Club Demonio\, Peñaflor\, Av Larrain 3157
ATTACH;FMTTYPE=image/png:https://elcorreodelasbrujas.cl/wp-content/uploads/2025/10/image-14.png
END:VEVENT
BEGIN:VEVENT
DTSTART;TZID=America/Sao_Paulo:20251011T210000
DTEND;TZID=America/Sao_Paulo:20251011T220000
DTSTAMP:20260423T122438
CREATED:20251010T220734Z
LAST-MODIFIED:20251010T220738Z
UID:6682-1760216400-1760220000@elcorreodelasbrujas.cl
SUMMARY:tributo a ROMEO SANTOS
DESCRIPTION:tributo a ROMEO SANTOS
URL:https://elcorreodelasbrujas.cl/evento/tributo-a-romeo-santos/
LOCATION:Kingofbar\, Miraflores 983\, Peñaflor
ATTACH;FMTTYPE=image/png:https://elcorreodelasbrujas.cl/wp-content/uploads/2025/10/image-17.png
END:VEVENT
BEGIN:VEVENT
DTSTART;TZID=America/Sao_Paulo:20251011T210000
DTEND;TZID=America/Sao_Paulo:20251011T233000
DTSTAMP:20260423T122438
CREATED:20251008T211557Z
LAST-MODIFIED:20251008T211624Z
UID:6618-1760216400-1760225400@elcorreodelasbrujas.cl
SUMMARY:Jorge González Experience
DESCRIPTION:Jorge González Experience
URL:https://elcorreodelasbrujas.cl/evento/jorge-gonzalez-experience/
LOCATION:Kinta Sala\, Av 21 de Mayo 1405\, Talagante
ATTACH;FMTTYPE=image/png:https://elcorreodelasbrujas.cl/wp-content/uploads/2025/10/image-3.png
END:VEVENT
BEGIN:VEVENT
DTSTART;TZID=America/Sao_Paulo:20251012T130000
DTEND;TZID=America/Sao_Paulo:20251012T180000
DTSTAMP:20260423T122438
CREATED:20251008T210504Z
LAST-MODIFIED:20251008T210650Z
UID:6612-1760274000-1760292000@elcorreodelasbrujas.cl
SUMMARY:FUSIÓN CULTURAL RUYUEN 2025
DESCRIPTION:FUSIÓN CULTURAL RUYUEN 2025
URL:https://elcorreodelasbrujas.cl/evento/fusion-cultural-ruyuen-2025-copy/
LOCATION:Casa de la Cultura de Talagante\, Av. Bernardo O'Higgins 3201
ATTACH;FMTTYPE=image/png:https://elcorreodelasbrujas.cl/wp-content/uploads/2025/10/image-1.png
END:VEVENT
BEGIN:VEVENT
DTSTART;TZID=America/Sao_Paulo:20251012T170000
DTEND;TZID=America/Sao_Paulo:20251012T183000
DTSTAMP:20260423T122438
CREATED:20251010T215747Z
LAST-MODIFIED:20251010T215752Z
UID:6675-1760288400-1760293800@elcorreodelasbrujas.cl
SUMMARY:La pérgola de las flores 💐
DESCRIPTION:
URL:https://elcorreodelasbrujas.cl/evento/la-pergola-de-las-flores-%f0%9f%92%90/
LOCATION:Casa de la Cultura de Talagante\, Av. Bernardo O'Higgins 3201
ATTACH;FMTTYPE=image/png:https://elcorreodelasbrujas.cl/wp-content/uploads/2025/10/image-15.png
END:VEVENT
BEGIN:VEVENT
DTSTART;TZID=America/Sao_Paulo:20251016T213000
DTEND;TZID=America/Sao_Paulo:20251016T233000
DTSTAMP:20260423T122438
CREATED:20251008T223933Z
LAST-MODIFIED:20251008T224042Z
UID:6664-1760650200-1760657400@elcorreodelasbrujas.cl
SUMMARY:Luis Slimming – Don Comedia
DESCRIPTION:Luis Slimming – Don Comedia
URL:https://elcorreodelasbrujas.cl/evento/luis-slimming-don-comedia/
LOCATION:Bar Inglés – Casa Tudor\, El Oliveto\, talagante\, Metropolitana\, Talagante\, Chile
ATTACH;FMTTYPE=image/png:https://elcorreodelasbrujas.cl/wp-content/uploads/2025/10/image-13.png
END:VEVENT
BEGIN:VEVENT
DTSTART;TZID=America/Sao_Paulo:20251017T080000
DTEND;TZID=America/Sao_Paulo:20251017T170000
DTSTAMP:20260423T122438
CREATED:20251017T182853Z
LAST-MODIFIED:20251017T182856Z
UID:6703-1760688000-1760720400@elcorreodelasbrujas.cl
SUMMARY:Obra “Estrellas Homínidas” 
DESCRIPTION:Obra “Estrellas Homínidas” 
URL:https://elcorreodelasbrujas.cl/evento/obra-estrellas-hominidas/
LOCATION:Casa de la Cultura de Talagante\, Av. Bernardo O'Higgins 3201
ATTACH;FMTTYPE=image/png:https://elcorreodelasbrujas.cl/wp-content/uploads/2025/10/image-21.png
END:VEVENT
BEGIN:VEVENT
DTSTART;TZID=America/Sao_Paulo:20251017T080000
DTEND;TZID=America/Sao_Paulo:20251017T170000
DTSTAMP:20260423T122438
CREATED:20251017T184757Z
LAST-MODIFIED:20251017T215755Z
UID:6709-1760688000-1760720400@elcorreodelasbrujas.cl
SUMMARY:Charlas y conversatorios en Casa Isla Mujer
DESCRIPTION:Charlas y conversatorios en Casa Isla Mujer
URL:https://elcorreodelasbrujas.cl/evento/charlas-y-conversatorios-en-casa-isla-mujer/
LOCATION:Casa isla mujer\, Balmaceda 3285
ATTACH;FMTTYPE=image/png:https://elcorreodelasbrujas.cl/wp-content/uploads/2025/10/image-23.png
END:VEVENT
BEGIN:VEVENT
DTSTART;TZID=America/Sao_Paulo:20251017T100000
DTEND;TZID=America/Sao_Paulo:20251017T150000
DTSTAMP:20260423T122438
CREATED:20251017T180518Z
LAST-MODIFIED:20251017T180522Z
UID:6693-1760695200-1760713200@elcorreodelasbrujas.cl
SUMMARY:La Cocina de la Abuelita 
DESCRIPTION:La Cocina de la Abuelita 
URL:https://elcorreodelasbrujas.cl/evento/la-cocina-de-la-abuelita/
LOCATION:Parque El Trapiche\, Manuel Rodríguez\, Peñaflor\, Chile\, santiago\, Chile
ATTACH;FMTTYPE=image/png:https://elcorreodelasbrujas.cl/wp-content/uploads/2025/10/image-19.png
END:VEVENT
BEGIN:VEVENT
DTSTART;TZID=America/Sao_Paulo:20251017T190000
DTEND;TZID=America/Sao_Paulo:20251017T193000
DTSTAMP:20260423T122438
CREATED:20251008T214807Z
LAST-MODIFIED:20251008T215233Z
UID:6632-1760727600-1760729400@elcorreodelasbrujas.cl
SUMMARY:Masterclass de Zumba
DESCRIPTION:Masterclass de Zumba
URL:https://elcorreodelasbrujas.cl/evento/masterclass-de-zumba/
ATTACH;FMTTYPE=image/png:https://elcorreodelasbrujas.cl/wp-content/uploads/2025/10/image-7.png
END:VEVENT
BEGIN:VEVENT
DTSTART;TZID=America/Sao_Paulo:20251018T080000
DTEND;TZID=America/Sao_Paulo:20251018T170000
DTSTAMP:20260423T122438
CREATED:20251017T221803Z
LAST-MODIFIED:20251017T221808Z
UID:6717-1760774400-1760806800@elcorreodelasbrujas.cl
SUMMARY:Cueca en tu Plaza
DESCRIPTION:Cueca en tu Plaza \n\n\n\n\n\n\n\n\n\nMonseñor Larraín con Nueva Tres\, Barrio Modelo
URL:https://elcorreodelasbrujas.cl/evento/cueca-en-tu-plaza/
END:VEVENT
BEGIN:VEVENT
DTSTART;TZID=America/Sao_Paulo:20251018T093000
DTEND;TZID=America/Sao_Paulo:20251018T140000
DTSTAMP:20260423T122438
CREATED:20251010T221809Z
LAST-MODIFIED:20251010T221956Z
UID:6686-1760779800-1760796000@elcorreodelasbrujas.cl
SUMMARY:Fiesta de la Mariposa del Chagual
DESCRIPTION:Fiesta de la Mariposa del Chagual\n\n\n\n\n\n\n\nCatemito #1910\, entrada Waka de Chena.
URL:https://elcorreodelasbrujas.cl/evento/fiesta-de-la-mariposa-del-chagual/
ATTACH;FMTTYPE=image/png:https://elcorreodelasbrujas.cl/wp-content/uploads/2025/10/image-18.png
END:VEVENT
BEGIN:VEVENT
DTSTART;TZID=America/Sao_Paulo:20251018T110000
DTEND;TZID=America/Sao_Paulo:20251018T190000
DTSTAMP:20260423T122438
CREATED:20251008T212729Z
LAST-MODIFIED:20251008T212755Z
UID:6622-1760785200-1760814000@elcorreodelasbrujas.cl
SUMMARY:Peñaentre - ExpoKai
DESCRIPTION:Peñaentre – ExpoKai
URL:https://elcorreodelasbrujas.cl/evento/penaentre-expokai/
LOCATION:Plaza Peñaflor\, plaza peñaflor
ATTACH;FMTTYPE=image/png:https://elcorreodelasbrujas.cl/wp-content/uploads/2025/10/image-4.png
END:VEVENT
BEGIN:VEVENT
DTSTART;TZID=America/Sao_Paulo:20251018T180000
DTEND;TZID=America/Sao_Paulo:20251018T210000
DTSTAMP:20260423T122438
CREATED:20251017T181056Z
LAST-MODIFIED:20251017T181101Z
UID:6698-1760810400-1760821200@elcorreodelasbrujas.cl
SUMMARY:Bingo Parroquia Santo Domingo de Guzmán
DESCRIPTION:Bingo Parroquia Santo Domingo de Guzmán\n\n\n\n\n\n\n\n\n\n\n\nBalmaceda 80 lonquén
URL:https://elcorreodelasbrujas.cl/evento/bingo-parroquia-santo-domingo-de-guzman/
END:VEVENT
BEGIN:VEVENT
DTSTART;TZID=America/Sao_Paulo:20251018T180000
DTEND;TZID=America/Sao_Paulo:20251018T220000
DTSTAMP:20260423T122438
CREATED:20251008T223552Z
LAST-MODIFIED:20251008T223557Z
UID:6659-1760810400-1760824800@elcorreodelasbrujas.cl
SUMMARY:Isla de Maipo Astronómica
DESCRIPTION:Isla de Maipo Astronómica
URL:https://elcorreodelasbrujas.cl/evento/isla-de-maipo-astronomica/
LOCATION:Estadio Municipal Isla de Maipo\, Av. Jaime Guzmán 840
ATTACH;FMTTYPE=image/png:https://elcorreodelasbrujas.cl/wp-content/uploads/2025/10/image-12.png
END:VEVENT
BEGIN:VEVENT
DTSTART;TZID=America/Sao_Paulo:20251018T210000
DTEND;TZID=America/Sao_Paulo:20251018T233000
DTSTAMP:20260423T122438
CREATED:20251017T183623Z
LAST-MODIFIED:20251017T183628Z
UID:6706-1760821200-1760830200@elcorreodelasbrujas.cl
SUMMARY:Jimmy Águila con su show de stand up
DESCRIPTION:Jimmy Águila con su show de stand up
URL:https://elcorreodelasbrujas.cl/evento/jimmy-aguila-con-su-show-de-stand-up/
LOCATION:Club Demonio\, Peñaflor\, Av Larrain 3157
ATTACH;FMTTYPE=image/png:https://elcorreodelasbrujas.cl/wp-content/uploads/2025/10/image-22.png
END:VEVENT
BEGIN:VEVENT
DTSTART;TZID=America/Sao_Paulo:20251018T213000
DTEND;TZID=America/Sao_Paulo:20251018T233000
DTSTAMP:20260423T122438
CREATED:20251017T222618Z
LAST-MODIFIED:20251017T222814Z
UID:6721-1760823000-1760830200@elcorreodelasbrujas.cl
SUMMARY:Tributo a Tom Jones
DESCRIPTION:Tributo a Tom Jones
URL:https://elcorreodelasbrujas.cl/evento/tributo-a-tom-jones/
LOCATION:Estación Santelices\, Estación Santelices 708\, Isla de Maipo
ATTACH;FMTTYPE=image/png:https://elcorreodelasbrujas.cl/wp-content/uploads/2025/10/image-25.png
END:VEVENT
BEGIN:VEVENT
DTSTART;TZID=America/Sao_Paulo:20251024T190000
DTEND;TZID=America/Sao_Paulo:20251024T220000
DTSTAMP:20260423T122438
CREATED:20251024T160341Z
LAST-MODIFIED:20251024T160346Z
UID:6731-1761332400-1761343200@elcorreodelasbrujas.cl
SUMMARY:Inauguración de Luminarias del Estadio Municipal de Calera de Tango
DESCRIPTION:Inauguración de Luminarias del Estadio Municipal de Calera de Tango
URL:https://elcorreodelasbrujas.cl/evento/inauguracion-de-luminarias-del-estadio-municipal-de-calera-de-tango/
LOCATION:Estadio Municipal Calera de Tango\, Estadio municipal de calera de tango
ATTACH;FMTTYPE=image/png:https://elcorreodelasbrujas.cl/wp-content/uploads/2025/10/image-26.png
END:VEVENT
BEGIN:VEVENT
DTSTART;TZID=America/Sao_Paulo:20251024T220000
DTEND;TZID=America/Sao_Paulo:20251024T233000
DTSTAMP:20260423T122438
CREATED:20251024T175953Z
LAST-MODIFIED:20251024T175957Z
UID:6756-1761343200-1761348600@elcorreodelasbrujas.cl
SUMMARY:TRIBUTO EN VIVO A CHAYANNE
DESCRIPTION:TRIBUTO EN VIVO A CHAYANNE
URL:https://elcorreodelasbrujas.cl/evento/tributo-en-vivo-a-chayanne/
LOCATION:Kingofbar\, Miraflores 983\, Peñaflor
ATTACH;FMTTYPE=image/png:https://elcorreodelasbrujas.cl/wp-content/uploads/2025/10/image-33.png
END:VEVENT
BEGIN:VEVENT
DTSTART;TZID=America/Sao_Paulo:20251025T003000
DTEND;TZID=America/Sao_Paulo:20251025T190000
DTSTAMP:20260423T122438
CREATED:20251024T171841Z
LAST-MODIFIED:20251024T171845Z
UID:6753-1761352200-1761418800@elcorreodelasbrujas.cl
SUMMARY:Expo Deportes Peñaflor
DESCRIPTION:Expo Deportes Peñaflor
URL:https://elcorreodelasbrujas.cl/evento/expo-deportes-penaflor/
LOCATION:Parque El Trapiche\, Manuel Rodríguez\, Peñaflor\, Chile\, santiago\, Chile
ATTACH;FMTTYPE=image/png:https://elcorreodelasbrujas.cl/wp-content/uploads/2025/10/image-32.png
END:VEVENT
BEGIN:VEVENT
DTSTART;TZID=America/Sao_Paulo:20251025T140000
DTEND;TZID=America/Sao_Paulo:20251025T210000
DTSTAMP:20260423T122438
CREATED:20251024T164618Z
LAST-MODIFIED:20251024T164625Z
UID:6741-1761400800-1761426000@elcorreodelasbrujas.cl
SUMMARY:Coffe Fest - Peñaflor 2025
DESCRIPTION:Coffe Fest – Peñaflor 2025
URL:https://elcorreodelasbrujas.cl/evento/coffe-fest-penaflor-2025/
LOCATION:Plaza Peñaflor\, plaza peñaflor
ATTACH;FMTTYPE=image/png:https://elcorreodelasbrujas.cl/wp-content/uploads/2025/10/image-28.png
END:VEVENT
BEGIN:VEVENT
DTSTART;TZID=America/Sao_Paulo:20251025T190000
DTEND;TZID=America/Sao_Paulo:20251025T213000
DTSTAMP:20260423T122438
CREATED:20251024T170528Z
LAST-MODIFIED:20251024T170648Z
UID:6747-1761418800-1761427800@elcorreodelasbrujas.cl
SUMMARY:Gala Artística 21 Sueños Down
DESCRIPTION:Gala Artística 21 Sueños Down
URL:https://elcorreodelasbrujas.cl/evento/gala-artistica-21-suenos-down/
LOCATION:Casa de la Cultura de Talagante\, Av. Bernardo O'Higgins 3201
ATTACH;FMTTYPE=image/png:https://elcorreodelasbrujas.cl/wp-content/uploads/2025/10/image-30.png
END:VEVENT
BEGIN:VEVENT
DTSTART;TZID=America/Sao_Paulo:20251025T210000
DTEND;TZID=America/Sao_Paulo:20251025T233000
DTSTAMP:20260423T122438
CREATED:20251024T162415Z
LAST-MODIFIED:20251024T162422Z
UID:6736-1761426000-1761435000@elcorreodelasbrujas.cl
SUMMARY:Stand Up Comedy - Monserrat Jerez
DESCRIPTION:Stand Up Comedy
URL:https://elcorreodelasbrujas.cl/evento/stand-up-comedy-monserrat-jerez/
LOCATION:Club Demonio\, Peñaflor\, Av Larrain 3157
ATTACH;FMTTYPE=image/png:https://elcorreodelasbrujas.cl/wp-content/uploads/2025/10/image-27.png
END:VEVENT
END:VCALENDAR